BEGIN:VCALENDAR
VERSION:2.0
PRODID:-//Santa Barbara Animal Hospital - ECPv4.9.12//NONSGML v1.0//EN
CALSCALE:GREGORIAN
METHOD:PUBLISH
X-WR-CALNAME:Santa Barbara Animal Hospital
X-ORIGINAL-URL:https://santabarbaraanimalhospital.com
X-WR-CALDESC:Events for Santa Barbara Animal Hospital
BEGIN:VTIMEZONE
TZID:UTC
BEGIN:STANDARD
TZOFFSETFROM:+0000
TZOFFSETTO:+0000
TZNAME:UTC
DTSTART:20180101T000000
END:STANDARD
END:VTIMEZONE
BEGIN:VEVENT
DTSTART;TZID=UTC:20180421T080000
DTEND;TZID=UTC:20180422T170000
DTSTAMP:20260420T124914
CREATED:20180316T135755Z
LAST-MODIFIED:20180322T152059Z
UID:1424-1524297600-1524416400@santabarbaraanimalhospital.com
SUMMARY:Santa Barbara Splash !
DESCRIPTION:Come join Santa Barbara Animal Hospital in the ultimate air dog competition and see dogs fly! \n
URL:https://santabarbaraanimalhospital.com/event/santa-barbara-splash/
LOCATION:Ultamte air dogs\, 395 Santa Barbara Blvd. N\, Cape Coral\, FL\, 33993\, United States
ORGANIZER;CN="":MAILTO:santabarbaraanimalhospital1@gmail.com
END:VEVENT
END:VCALENDAR