BEGIN:VCALENDAR
VERSION:2.0
PRODID:-//Santa Barbara Animal Hospital - ECPv4.9.12//NONSGML v1.0//EN
CALSCALE:GREGORIAN
METHOD:PUBLISH
X-WR-CALNAME:Santa Barbara Animal Hospital
X-ORIGINAL-URL:https://santabarbaraanimalhospital.com
X-WR-CALDESC:Events for Santa Barbara Animal Hospital
BEGIN:VTIMEZONE
TZID:UTC
BEGIN:STANDARD
TZOFFSETFROM:+0000
TZOFFSETTO:+0000
TZNAME:UTC
DTSTART:20190101T000000
END:STANDARD
END:VTIMEZONE
BEGIN:VEVENT
DTSTART;VALUE=DATE:20190815
DTEND;VALUE=DATE:20190816
DTSTAMP:20260420T111653
CREATED:20190716T192228Z
LAST-MODIFIED:20190716T194112Z
UID:3044-1565827200-1565913599@santabarbaraanimalhospital.com
SUMMARY:National "Check the Chip" Day!
DESCRIPTION: \n  \n
URL:https://santabarbaraanimalhospital.com/event/national-check-the-chip-day/
LOCATION:Santa Barbara Animal Hospital\, 395 Santa Barbara Blvd N\, Cape Coral\, FL\, 33993\, United States
END:VEVENT
END:VCALENDAR