BEGIN:VCALENDAR
VERSION:2.0
PRODID:-//Santa Barbara Animal Hospital - ECPv4.9.12//NONSGML v1.0//EN
CALSCALE:GREGORIAN
METHOD:PUBLISH
X-WR-CALNAME:Santa Barbara Animal Hospital
X-ORIGINAL-URL:https://santabarbaraanimalhospital.com
X-WR-CALDESC:Events for Santa Barbara Animal Hospital
BEGIN:VTIMEZONE
TZID:UTC
BEGIN:STANDARD
TZOFFSETFROM:+0000
TZOFFSETTO:+0000
TZNAME:UTC
DTSTART:20190101T000000
END:STANDARD
END:VTIMEZONE
BEGIN:VEVENT
DTSTART;VALUE=DATE:20190902
DTEND;VALUE=DATE:20190903
DTSTAMP:20260420T111830
CREATED:20190621T135515Z
LAST-MODIFIED:20190621T195230Z
UID:2851-1567382400-1567468799@santabarbaraanimalhospital.com
SUMMARY:CLOSED
DESCRIPTION: \nWe will be closed on Monday\, September 2nd\, 2019 in observation of Labor Day. We will resume normal business hours on Tuesday\, September 3rd\, 2019 at 8am! \n
URL:https://santabarbaraanimalhospital.com/event/closed-5/
LOCATION:Santa Barbara Animal Hospital\, 395 Santa Barbara Blvd N\, Cape Coral\, FL\, 33993\, United States
CATEGORIES:Closed
END:VEVENT
END:VCALENDAR