BEGIN:VCALENDAR
VERSION:2.0
PRODID:-//Santa Barbara Animal Hospital - ECPv4.9.12//NONSGML v1.0//EN
CALSCALE:GREGORIAN
METHOD:PUBLISH
X-WR-CALNAME:Santa Barbara Animal Hospital
X-ORIGINAL-URL:https://santabarbaraanimalhospital.com
X-WR-CALDESC:Events for Santa Barbara Animal Hospital
BEGIN:VTIMEZONE
TZID:UTC
BEGIN:STANDARD
TZOFFSETFROM:+0000
TZOFFSETTO:+0000
TZNAME:UTC
DTSTART:20180101T000000
END:STANDARD
END:VTIMEZONE
BEGIN:VEVENT
DTSTART;TZID=UTC:20180210T170000
DTEND;TZID=UTC:20180210T220000
DTSTAMP:20260420T124833
CREATED:20180126T192048Z
LAST-MODIFIED:20180126T192048Z
UID:1389-1518282000-1518300000@santabarbaraanimalhospital.com
SUMMARY:Cape Coral Bike Night
DESCRIPTION: \nThis is a great street party of 10\,000 people enjoying live music\, great food\, beer\, beverages\, lots of local business vendors\, and bikes of all kinds.  There will be bike companies\, bike builders and bike stores displaying their bikes\, and local bikers both riding and displaying their bikes. Santa Barbara Animal Hospital will also be there so be sure to stop by our booth and pick up any pet goodies that you will need . \n
URL:https://santabarbaraanimalhospital.com/event/cape-coral-bike-night/
LOCATION:cape coral bike night\, SE 47th Terrace between Vincennes and Coronado\, cape coral\, FL\, 33993\, United States
END:VEVENT
END:VCALENDAR